BEGIN:VCALENDAR
VERSION:2.0
PRODID:-//İSOFF - ECPv6.3.5//NONSGML v1.0//EN
CALSCALE:GREGORIAN
METHOD:PUBLISH
X-ORIGINAL-URL:https://www.isoff.org.tr
X-WR-CALDESC:İSOFF için etkinlikler
REFRESH-INTERVAL;VALUE=DURATION:PT1H
X-Robots-Tag:noindex
X-PUBLISHED-TTL:PT1H
BEGIN:VTIMEZONE
TZID:Europe/Istanbul
BEGIN:STANDARD
TZOFFSETFROM:+0300
TZOFFSETTO:+0300
TZNAME:+03
DTSTART:20260101T000000
END:STANDARD
END:VTIMEZONE
BEGIN:VEVENT
DTSTART;VALUE=DATE:20260131
DTEND;VALUE=DATE:20260202
DTSTAMP:20260426T053540
CREATED:20260116T111557Z
LAST-MODIFIED:20260116T114239Z
UID:16006-1769817600-1769990399@www.isoff.org.tr
SUMMARY:Ercova Yaylası Kar Kampı
DESCRIPTION:🏔️ Kar\, Macera ve Off-Road Tutkusu Bir Arada!\nİstanbul Off-Road Kulübü (İSOFF) olarak\, kışın en saf halini yaşamak ve doğanın zorlu koşullarına meydan okumak için Ercova Yaylası Kar Kampı‘nda buluşuyoruz! \nBeyaz örtüyle kaplı yayla yollarında\, kamp ateşi eşliğinde unutulmaz bir hafta sonu geçirmeye hazır mısınız? 4×4 araçlarımızla doğanın kalbine doğru bir yolculuğa çıkıyoruz. \n📅 Etkinlik Detayları:\n\n\nTarih: 31 Ocak – 1 Şubat \n\n\nKonum: Ercova Yaylası \n\n\n📍 Etkinlik Programı:\n\n\nToplanma & Yaylaya Hareket: Ekip ruhuyla yolculuğun başlangıcı. \n\n\nKamp Alanına Yerleşim: Karlar üzerinde konaklama hazırlığı. \n\n\nSerbest Off-Road Sürüşleri: Adrenalin ve performans dolu anlar. \n\n\nKamp Ateşi & Akşam Sohbeti: Isınan dostluklar ve keyifli anılar. \n\n\nDoğanın gücünü hissetmek ve kış kampının tadını doyasıya çıkarmak isteyen tüm macera severleri bekliyoruz! 🚙❄️🔥
URL:https://www.isoff.org.tr/etkinlik/ercova-yaylasi-kar-kampi/
LOCATION:Ercova Yaylası\, Pamukova\, Sakarya\, Türkiye
CATEGORIES:Geziler,Organizasyon
ATTACH;FMTTYPE=image/jpeg:https://www.isoff.org.tr/wp-content/uploads/2026/01/isoff-ercova-yaylasi-kar-kampi.jpeg
ORGANIZER;CN="%C4%B0SOFF":MAILTO:istanbuloffroadkulubu@gmail.com
END:VEVENT
END:VCALENDAR