BEGIN:VCALENDAR
VERSION:2.0
PRODID:-//İSOFF - ECPv6.3.5//NONSGML v1.0//EN
CALSCALE:GREGORIAN
METHOD:PUBLISH
X-ORIGINAL-URL:https://www.isoff.org.tr
X-WR-CALDESC:İSOFF için etkinlikler
REFRESH-INTERVAL;VALUE=DURATION:PT1H
X-Robots-Tag:noindex
X-PUBLISHED-TTL:PT1H
BEGIN:VTIMEZONE
TZID:Europe/Istanbul
BEGIN:STANDARD
TZOFFSETFROM:+0300
TZOFFSETTO:+0300
TZNAME:+03
DTSTART:20240101T000000
END:STANDARD
END:VTIMEZONE
BEGIN:VEVENT
DTSTART;TZID=Europe/Istanbul:20240127T200000
DTEND;TZID=Europe/Istanbul:20240127T233000
DTSTAMP:20260426T041848
CREATED:20240206T132521Z
LAST-MODIFIED:20240206T132704Z
UID:15804-1706385600-1706398200@www.isoff.org.tr
SUMMARY:27 Ocak 2024\, ISOFF Yılbaşı Yemeği
DESCRIPTION:Bu seneki İSOFF yemeğimiz Yeni Yıl Buluşması adıyla\, Dedeman sponsorluğunda gerçekleşecektir. \nKatılım durumunuzu en geç 16 Ocak Salı gününe kadar bildirmenizi önemle rica ederiz. Planlama bu sayı üzerinden yapılacaktır.\nKatılım bilgisi için lütfen isim-soyisim ve kişi sayısını mesaj atınız: 05319898127 \n*Üyelerimizin eşlerinin de İSOFF ile tanışması için Davetiye 2 kişiliktir. 2 kişi dışında ilave her katılımcı için ücret bilgisi ayrıca bildirilecektir.\nSaygılarımızla.
URL:https://www.isoff.org.tr/etkinlik/27-ocak-2024-isoff-yilbasi-yemegi/
LOCATION:Dedeman Istanbul Gayrettepe
END:VEVENT
END:VCALENDAR