BEGIN:VCALENDAR
VERSION:2.0
PRODID:-//İSOFF - ECPv6.3.5//NONSGML v1.0//EN
CALSCALE:GREGORIAN
METHOD:PUBLISH
X-WR-CALNAME:İSOFF
X-ORIGINAL-URL:https://www.isoff.org.tr
X-WR-CALDESC:İSOFF için etkinlikler
REFRESH-INTERVAL;VALUE=DURATION:PT1H
X-Robots-Tag:noindex
X-PUBLISHED-TTL:PT1H
BEGIN:VTIMEZONE
TZID:Europe/Istanbul
BEGIN:STANDARD
TZOFFSETFROM:+0300
TZOFFSETTO:+0300
TZNAME:+03
DTSTART:20200101T000000
END:STANDARD
TZID:Europe/Moscow
BEGIN:STANDARD
TZOFFSETFROM:+0300
TZOFFSETTO:+0300
TZNAME:MSK
DTSTART:20200101T000000
END:STANDARD
END:VTIMEZONE
BEGIN:VEVENT
DTSTART;VALUE=DATE:20260131
DTEND;VALUE=DATE:20260202
DTSTAMP:20260426T015301
CREATED:20260116T111557Z
LAST-MODIFIED:20260116T114239Z
UID:16006-1769817600-1769990399@www.isoff.org.tr
SUMMARY:Ercova Yaylası Kar Kampı
DESCRIPTION:🏔️ Kar\, Macera ve Off-Road Tutkusu Bir Arada!\nİstanbul Off-Road Kulübü (İSOFF) olarak\, kışın en saf halini yaşamak ve doğanın zorlu koşullarına meydan okumak için Ercova Yaylası Kar Kampı‘nda buluşuyoruz! \nBeyaz örtüyle kaplı yayla yollarında\, kamp ateşi eşliğinde unutulmaz bir hafta sonu geçirmeye hazır mısınız? 4×4 araçlarımızla doğanın kalbine doğru bir yolculuğa çıkıyoruz. \n📅 Etkinlik Detayları:\n\n\nTarih: 31 Ocak – 1 Şubat \n\n\nKonum: Ercova Yaylası \n\n\n📍 Etkinlik Programı:\n\n\nToplanma & Yaylaya Hareket: Ekip ruhuyla yolculuğun başlangıcı. \n\n\nKamp Alanına Yerleşim: Karlar üzerinde konaklama hazırlığı. \n\n\nSerbest Off-Road Sürüşleri: Adrenalin ve performans dolu anlar. \n\n\nKamp Ateşi & Akşam Sohbeti: Isınan dostluklar ve keyifli anılar. \n\n\nDoğanın gücünü hissetmek ve kış kampının tadını doyasıya çıkarmak isteyen tüm macera severleri bekliyoruz! 🚙❄️🔥
URL:https://www.isoff.org.tr/etkinlik/ercova-yaylasi-kar-kampi/
LOCATION:Ercova Yaylası\, Pamukova\, Sakarya\, Türkiye
CATEGORIES:Geziler,Organizasyon
ATTACH;FMTTYPE=image/jpeg:https://www.isoff.org.tr/wp-content/uploads/2026/01/isoff-ercova-yaylasi-kar-kampi.jpeg
ORGANIZER;CN="%C4%B0SOFF":MAILTO:istanbuloffroadkulubu@gmail.com
END:VEVENT
BEGIN:VEVENT
DTSTART;VALUE=DATE:20211028
DTEND;VALUE=DATE:20211101
DTSTAMP:20260426T015301
CREATED:20210316T082655Z
LAST-MODIFIED:20210316T082655Z
UID:11422-1635379200-1635724799@www.isoff.org.tr
SUMMARY:BAJA TROIA TURKEY 2021
DESCRIPTION:2017 senesinden bu yana İSOFF tarafından uluslararası bir off-road serisinin Türkiye ayağı olarak düzenlenen Baja Troia Turkey\, 28-31 Ekim tarihleri arasında yine Çanakkale’de muhteşem etaplarda start alacak \nEAST EUROPEAN TOUT TERRAIN SERIES tarafından açıklanan 2021 programına göre bu sene Yunanistan\, Romanya\, Sırbistan ve Türkiye’nin ev sahipliği yapacağı organizasyon 5 ayak halinde koşulacak. \nRalli ve Raid Kategorilerinde koşulacak bu zorlu yarışta\, Türkiye’den ve dünyadan tanınmış off-road ekipleri start alarak hem cüretkâr off-road etaplarını hem de yüksek hızlı performans etaplarını kat edecekler.
URL:https://www.isoff.org.tr/etkinlik/baja-troia-turkey-2021/
LOCATION:BAJA TROIA\, Kipa AVM\, çanakkale\, 17020\, Türkiye
ATTACH;FMTTYPE=image/jpeg:https://www.isoff.org.tr/wp-content/uploads/2020/12/isoff_slider7.jpg
ORGANIZER;CN="%C4%B0SOFF":MAILTO:istanbuloffroadkulubu@gmail.com
END:VEVENT
BEGIN:VEVENT
DTSTART;VALUE=DATE:20200912
DTEND;VALUE=DATE:20200914
DTSTAMP:20260426T015301
CREATED:20200220T130323Z
LAST-MODIFIED:20200820T135215Z
UID:7480-1599868800-1600041599@www.isoff.org.tr
SUMMARY:BA-ÇO Kampı\, 12-13 Eylül 2020
DESCRIPTION:İstanbul Off-Road kulübünün geleneksel Baba-Çocuk kampı. Kamp süresince oyunlar düzenlenecek\, çocuklarımızın doğa ile etkileşimi sağlanacak ve güzel anılara sahip olmalarını sağlamayı hedefliyoruz. \nKamp sadece kulüp üyelerine açıktır. \nAnneler davetli değildir.
URL:https://www.isoff.org.tr/etkinlik/ba-co-kampi-12-13-eylul-2020/
ATTACH;FMTTYPE=image/jpeg:https://www.isoff.org.tr/wp-content/uploads/2020/02/baço.jpg
ORGANIZER;CN="%C4%B0SOFF":MAILTO:istanbuloffroadkulubu@gmail.com
END:VEVENT
BEGIN:VEVENT
DTSTART;VALUE=DATE:20200612
DTEND;VALUE=DATE:20200615
DTSTAMP:20260426T015301
CREATED:20200608T092143Z
LAST-MODIFIED:20200608T092143Z
UID:9351-1591920000-1592179199@www.isoff.org.tr
SUMMARY:Haziran Deniz Kampı
DESCRIPTION:İstanbul yakınlarında organize edilecek deniz kampı. 12-13-14 Haziran tarihlerinde düzenlenecek. Kampa tüm üyelerimiz davetlidir.
URL:https://www.isoff.org.tr/etkinlik/haziran-deniz-kampi/
ATTACH;FMTTYPE=image/jpeg:https://www.isoff.org.tr/wp-content/uploads/2020/06/Deniz_kampı.jpeg
ORGANIZER;CN="%C4%B0SOFF":MAILTO:istanbuloffroadkulubu@gmail.com
END:VEVENT
BEGIN:VEVENT
DTSTART;VALUE=DATE:20200418
DTEND;VALUE=DATE:20200420
DTSTAMP:20260426T015302
CREATED:20200312T071604Z
LAST-MODIFIED:20200312T071929Z
UID:8674-1587168000-1587340799@www.isoff.org.tr
SUMMARY:Ekstrem Off Road\, 18-19 Nisan 2020
DESCRIPTION:18-19 Nisan \nNisan ayında düzenlenecek olan ekstrem gezimize katılacak araçların minimum 5 yıldız olması gerekmektedir. Gezi rotası daha sonra belirlenecek ve bilidirilecektir.
URL:https://www.isoff.org.tr/etkinlik/ekstrem-off-road-18-19-nisan-2020/
ATTACH;FMTTYPE=image/jpeg:https://www.isoff.org.tr/wp-content/uploads/2020/03/ISOFF-18-19-Nisan-2020-Ekstrem.jpg
ORGANIZER;CN="%C4%B0SOFF":MAILTO:istanbuloffroadkulubu@gmail.com
END:VEVENT
BEGIN:VEVENT
DTSTART;VALUE=DATE:20200314
DTEND;VALUE=DATE:20200316
DTSTAMP:20260426T015302
CREATED:20200220T120853Z
LAST-MODIFIED:20200311T104423Z
UID:7466-1584144000-1584316799@www.isoff.org.tr
SUMMARY:Ekstrem Off-Road\, 14-15 Mart 2020
DESCRIPTION:Mart ayında yapılacak ekstrem gezimize katılacak araçların minimum 4 yıldıza sahip olması gerekmektedir. Gezi rotası daha sonra belirlenecektir.
URL:https://www.isoff.org.tr/etkinlik/ekstrem-off-road-14-15-mart-2020/
ATTACH;FMTTYPE=image/jpeg:https://www.isoff.org.tr/wp-content/uploads/2020/02/isoff-extreme-2020-çatalca-istanbul-kampı-19.jpg
ORGANIZER;CN="%C4%B0SOFF":MAILTO:istanbuloffroadkulubu@gmail.com
END:VEVENT
BEGIN:VEVENT
DTSTART;TZID=Europe/Moscow:20200303T190000
DTEND;TZID=Europe/Moscow:20200303T210000
DTSTAMP:20260426T015302
CREATED:20200220T124705Z
LAST-MODIFIED:20200304T073332Z
UID:7475-1583262000-1583269200@www.isoff.org.tr
SUMMARY:Deprem ile Yaşam Eğitimi
DESCRIPTION:İstanbul’un ve ülkemizin gerçeği olan deprem ile yüzleştiğimiz zaman yapılması gerekenler ile ilgili eğitim verilecektir.\nEğitmen: Erkan Ataker
URL:https://www.isoff.org.tr/etkinlik/deprem-ile-yasam-egitimi/
CATEGORIES:Eğitimler
ATTACH;FMTTYPE=image/jpeg:https://www.isoff.org.tr/wp-content/uploads/2020/02/türkiye-deprem-haritası-depremle-yaşam-eğitimleri-isoff.jpg
ORGANIZER;CN="%C4%B0SOFF":MAILTO:istanbuloffroadkulubu@gmail.com
END:VEVENT
BEGIN:VEVENT
DTSTART;VALUE=DATE:20200229
DTEND;VALUE=DATE:20200302
DTSTAMP:20260426T015302
CREATED:20200210T203014Z
LAST-MODIFIED:20200225T172932Z
UID:6811-1582934400-1583107199@www.isoff.org.tr
SUMMARY:İSOFF Kar Kampı 3
DESCRIPTION:İstanbul Off-Road Kulübü 2020 Şubat ayının son organizasyonu başlıyor. \nOrganizasyona yalnızca İSOFF üyeleri katılabilir. Üye olmak için burayı tıklayın. \n[ihc-hide-content ihc_mb_type=”show” ihc_mb_who=”reg” ihc_mb_template=”1″ ][/ihc-hide-content] \n\n\n\n1 YILDIZ (*)\nStandart 4×4 Araçlar\, İlk Yardım Seti\, Yangın Söndürücü\n\n\n2 YILDIZ (**)\nİlaveten\, A/T Lastik\, Telsiz\, Kürek\, El Feneri\n\n\n3 YILDIZ (***)\nİlaveten\, Strep\, U Kilit\, Esnek Halat\, Tester\, İş Eldiven
URL:https://www.isoff.org.tr/etkinlik/isoff-kar-kampi-3/
CATEGORIES:Geziler
ATTACH;FMTTYPE=image/jpeg:https://www.isoff.org.tr/wp-content/uploads/2020/02/isoff-şubat-2020-kar-kampı-29şubat-1mart.jpg
ORGANIZER;CN="%C4%B0SOFF":MAILTO:istanbuloffroadkulubu@gmail.com
END:VEVENT
BEGIN:VEVENT
DTSTART;TZID=Europe/Moscow:20200218T190000
DTEND;TZID=Europe/Moscow:20200218T210000
DTSTAMP:20260426T015302
CREATED:20200218T130602Z
LAST-MODIFIED:20200218T131419Z
UID:7303-1582052400-1582059600@www.isoff.org.tr
SUMMARY:Arazide Araç Kullanımı ve Güvenli Vinçleme Teknikleri
DESCRIPTION:18 şubat salı günü ”Arazide Araç Kullanımı ve Güvenli Vinç leme Teknikleri Eğitimi” yapılacaktır.\nEğitmenler : Bayram Eyri / Selahattin Toper\nSaat 19:00 – 21:00 arası\nİkramlarımız olacaktır.\nSalı aksamı herkes i bekleriz.
URL:https://www.isoff.org.tr/etkinlik/arazide-arac-kullanimi-ve-guvenli-vincleme-teknikleri/
LOCATION:İstanbul Off-Road Kulübü\, Maslak Mahallesi Atatürk Organize Sanayi Sitesi 52. Sokak No: 4 Sarıyer\, İstanbul\, 34485\, Türkiye
CATEGORIES:Eğitimler
ATTACH;FMTTYPE=image/jpeg:https://www.isoff.org.tr/wp-content/uploads/2020/02/IMG_8892.jpg
ORGANIZER;CN="%C4%B0SOFF":MAILTO:istanbuloffroadkulubu@gmail.com
END:VEVENT
END:VCALENDAR